BEGIN:VCALENDAR
VERSION:2.0
PRODID:-//Plone.org//NONSGML plone.app.event//EN
X-WR-TIMEZONE:America/Montevideo
BEGIN:VEVENT
SUMMARY:CIMPA School 2025: K-theory and Operator Algebras
DTSTART;VALUE=DATE:20250728
DTEND;VALUE=DATE:20250809
DTSTAMP;VALUE=DATE-TIME:20260425T200259Z
UID:911956f512694d88b01fa2c79715d8aa@www.cmat.edu.uy
CATEGORIES:big-event,CIMPA
CONTACT:http://ktcimpa2025.dm.uba.ar/
CREATED;VALUE=DATE-TIME:20250306T115914Z
DESCRIPTION:28 de Julio - 8 de Agosto. Buenos Aires.
LAST-MODIFIED;VALUE=DATE-TIME:20250306T120828Z
LOCATION:Buenos Aires
URL:https://www.cmat.edu.uy/eventos/cimpa-school-2025-k-theory-and-operato
 r-algebras
END:VEVENT
END:VCALENDAR
